BEGIN:VCALENDAR
VERSION:2.0
PRODID:-//Oportunități de finanțare UE - ECPv6.0.13.1//NONSGML v1.0//EN
CALSCALE:GREGORIAN
METHOD:PUBLISH
X-ORIGINAL-URL:https://mipe-test.softwareimc.app
X-WR-CALDESC:Events for Oportunități de finanțare UE
REFRESH-INTERVAL;VALUE=DURATION:PT1H
X-Robots-Tag:noindex
X-PUBLISHED-TTL:PT1H
BEGIN:VTIMEZONE
TZID:Europe/Bucharest
BEGIN:DAYLIGHT
TZOFFSETFROM:+0200
TZOFFSETTO:+0300
TZNAME:EEST
DTSTART:20210328T010000
END:DAYLIGHT
BEGIN:STANDARD
TZOFFSETFROM:+0300
TZOFFSETTO:+0200
TZNAME:EET
DTSTART:20211031T010000
END:STANDARD
END:VTIMEZONE
BEGIN:VEVENT
DTSTART;VALUE=DATE:20210806
DTEND;VALUE=DATE:20210807
DTSTAMP:20260422T190433
CREATED:20210923T044716Z
LAST-MODIFIED:20230509T085616Z
UID:11981-1628208000-1628294399@mipe-test.softwareimc.app
SUMMARY:Sesiune de Informare privind lansarea noului cadru de propuneri proiecte. Programul LIFE
DESCRIPTION:În data de 6 august 2021 a avut loc sesiunea de informare privind lansarea propunerilor de proiecte\, în cadrul Programului LIFE\, un instrument de finanțare la nivelul Comisiei Europene\, dedicat mediului și acțiunilor care privesc schimbările climatice. \nLa reuniune au participat reprezentanți ai instituțiilor de cercetare și ministerelor din domeniu\, precum și doamna Ivona Batali\, director DCEI în cadrul MIPE\, alături de un alt reprezentant al DCEI. Pe agenda sesiunii s-au aflat Programul LIFE  2021-2027\, Principiile Green Deal și Obiectivele și Structura programului LIFE. \nReuniunea a fost deschisă de către doamna Mădălina Cozma\, Life Project Manager\, care a realizat o descriere generală a programului LIFE\, care va beneficia de un buget de 5\,4 mld. EUR în noul exercițiu financiar 2021-2027. Temele detaliate au vizat aderarea și ralierea la principiile Green Deal; trecerea la o economie durabilă\, circulară\, mai eficientă din punct de vedere energetic\, bazată pe energie regenerabilă\, neutră din punct de vedere climatic și rezilientă; protejarea\, restaurarea și îmbunătățirea mediul înconjurător; stoparea și inversarea pierderii biodiversității; îndeplinirea principiilor economiei circulare si creșterea calității vieții. \nÎn acest context\, doamna director Batali a intervenit cu precizări referitoare la platforma online a Ministerului Investițiilor și Proiectelor Europene\, lansată pe 5 august 2021\, un „single entry point” care integrează informații privind fonduri din mai multe surse de finanțare (programele naționale\, operaționale\, comunitare). Date fiind caracteristicile programului LIFE\, de integrare deopotrivă a cercetării/inovării și a aplicării în termeni practici a rezultatelor cercetării pe temele de mediu\, doamna Batali a menționat că platforma online a MIPE integrează informații consistente inclusiv despre programul LIFE pentru toți potențialii beneficiari\, în vederea creșterii vizibilității surselor de finanțare europeană. \nPentru mai multe detalii privind programul LIFE\, vizitați: \nhttps://cinea.ec.europa.eu/life_ro
URL:https://mipe-test.softwareimc.app/eveniment/info-day-sesiune-de-informare-privind-lansarea-noului-cadru-de-propuneri-proiecte-programul-life/
CATEGORIES:Financing Info Monday
ATTACH;FMTTYPE=image/jpeg:https://mipe-test.softwareimc.app/wp-content/uploads/2021/09/IMG_20210806_1045173-scaled.jpg
END:VEVENT
BEGIN:VEVENT
DTSTART;VALUE=DATE:20210830
DTEND;VALUE=DATE:20210831
DTSTAMP:20260422T190433
CREATED:20210831T044936Z
LAST-MODIFIED:20230509T085834Z
UID:11975-1630281600-1630367999@mipe-test.softwareimc.app
SUMMARY:Prezentare program Europa Creativă-MEDIA
DESCRIPTION:În cadrul webinar-ului Financing info Monday – Europa Creativă\, desfășurat luni\, 30 august 2021\, doamna Valentina Miu\, coordonator Europa Creativă MEDIA\, Biroul Europa Creativă România\, din cadrul Ministerului Culturii – Unitatea de Management a Proiectului\, a prezentat programul Europa Creativă – MEDIA. \nRegăsiți mai jos această prezentare. \n  \nPrezentare program Europa Creativa-MEDIA
URL:https://mipe-test.softwareimc.app/eveniment/prezentare-program-europa-creativa-media/
CATEGORIES:Financing Info Monday
ATTACH;FMTTYPE=image/jpeg:https://mipe-test.softwareimc.app/wp-content/uploads/2021/08/ntitled.jpg
END:VEVENT
BEGIN:VEVENT
DTSTART;VALUE=DATE:20210830
DTEND;VALUE=DATE:20210831
DTSTAMP:20260422T190433
CREATED:20210831T045342Z
LAST-MODIFIED:20230509T085817Z
UID:11976-1630281600-1630367999@mipe-test.softwareimc.app
SUMMARY:Prezentare program Europa Creativă
DESCRIPTION:În cadrul webinar-ului Financing info Monday – Europa Creativă\, desfășurat luni\, 30 august 2021\, domnul Sorin Enuș\, coordonator Europa Creativă CULTURĂ\, Biroul Europa Creativă România\, din cadrul Ministerului Culturii – Unitatea de Management a Proiectului\, a prezentat programul Europa Creativă\, punând accent pe subprogramul CULTURĂ. \nRegăsiți mai jos această prezentare. \nPrezentare program Europa Creativă
URL:https://mipe-test.softwareimc.app/eveniment/prezentare-program-europa-creativa/
CATEGORIES:Financing Info Monday
ATTACH;FMTTYPE=image/jpeg:https://mipe-test.softwareimc.app/wp-content/uploads/2021/08/Untitled.jpg
END:VEVENT
END:VCALENDAR