BEGIN:VCALENDAR
VERSION:2.0
PRODID:-//Oportunități de finanțare UE - ECPv6.0.13.1//NONSGML v1.0//EN
CALSCALE:GREGORIAN
METHOD:PUBLISH
X-WR-CALNAME:Oportunități de finanțare UE
X-ORIGINAL-URL:https://mipe-test.softwareimc.app
X-WR-CALDESC:Events for Oportunități de finanțare UE
REFRESH-INTERVAL;VALUE=DURATION:PT1H
X-Robots-Tag:noindex
X-PUBLISHED-TTL:PT1H
BEGIN:VTIMEZONE
TZID:Europe/Bucharest
BEGIN:DAYLIGHT
TZOFFSETFROM:+0200
TZOFFSETTO:+0300
TZNAME:EEST
DTSTART:20210328T010000
END:DAYLIGHT
BEGIN:STANDARD
TZOFFSETFROM:+0300
TZOFFSETTO:+0200
TZNAME:EET
DTSTART:20211031T010000
END:STANDARD
END:VTIMEZONE
BEGIN:VEVENT
DTSTART;TZID=Europe/Bucharest:20210920T000000
DTEND;TZID=Europe/Bucharest:20210920T000000
DTSTAMP:20260422T173719
CREATED:20210920T073209Z
LAST-MODIFIED:20230509T085655Z
UID:11979-1632096000-1632096000@mipe-test.softwareimc.app
SUMMARY:Prezentare Programul Operațional Regional Nord-Est 2021-2027 (webinar-20 septembrie 2021)
DESCRIPTION:În cadrul webinar-ului Financing info Monday – Oportunități de finanțare și cooperare pentru Regiunea Nord-Est în perioada 2021-2027\, desfășurat luni\, 20 septembrie 2021\, domnul Vasile Asandei\, director general al Agenției pentru Dezvoltare Regională Nord-Est\, a prezentat Programul Operațional Regional Nord-Est 2021-2027\, punând accent pe structura POR Nord-Est 2021-2027\, alocarea financiară orientativă pentru această regiune\, grupurile țintă vizate prin finanțările POR N-E 2021-2027\, precum și viziunea pentru Regiunea Nord-Est. \nRegăsiți mai jos această prezentare. \nProgramul Operational Regional Nord-Est 2021-2027 20 septembrie
URL:https://mipe-test.softwareimc.app/eveniment/prezentare-programul-operational-regional-nord-est-2021-2027-webinar-20-septembrie-2021/
CATEGORIES:Financing Info Monday
ATTACH;FMTTYPE=image/jpeg:https://mipe-test.softwareimc.app/wp-content/uploads/2021/09/POR-Nord-Est.jpg
END:VEVENT
BEGIN:VEVENT
DTSTART;VALUE=DATE:20210920
DTEND;VALUE=DATE:20210921
DTSTAMP:20260422T173719
CREATED:20210915T085301Z
LAST-MODIFIED:20230509T091538Z
UID:11978-1632096000-1632182399@mipe-test.softwareimc.app
SUMMARY:Oportunități de finanțare și cooperare pentru Regiunea Nord-Est în perioada 2021-2027
DESCRIPTION:Ministerul Investițiilor și Proiectelor Europene\, va organiza luni\, 20 septembrie  2021\, începând cu ora 11:00\, în parteneriat cu Agenția pentru Dezvoltare Regională Nord-Est\, evenimentul FINANCING INFO MONDAY\, cu tema  Oportunități de finanțare și cooperare pentru Regiunea Nord-Est în perioada 2021-2027. \nLa eveniment sunt invitați domnul Vasile Asandei – Director General ADR Nord-Est\, doamna Gabriela Macoveiu\, Director Comunicare\, Inovare și Cooperare Externă ADR Nord-Est și Domnul Sorin Grigorescu\,  Director Direcția POR Nord-Est 2021-2027. \nWebinarul va aduce în atenția participanților o prezentare a oportunităților de finanțare ce vor fi oferite prin Programul Operațional Regional Nord-Est 2021-2027\, dar și posibilitățile de cooperare internațională generate de apartenența la rețele europene de inovare (Platformele S3\, comunitățile de cunoaștere și inovare EIT\, Vanguard Initiative\, rețeaua ERRIN\, instrumentul de investiții interregionale i3) și modul în care cei interesati pot beneficia de aceste resurse. \n  \nDetaliile de logare pentru participarea la videoconferință: \nJoin from the meeting link \nhttps://mfe.webex.com/mfe/j.php?MTID=mcdc5e28659529a7d13a7f0ab1e44d8a5 \nJoin by meeting number \nMeeting number (access code): 2401 044 6592 \nMeeting password: Minister2021 \nTap to join from a mobile device (attendees only) \n+40-31-1305-284\,\,24010446592## Romania Toll \n  \nJoin by phone \n+40-31-1305-284 Romania Toll \nGlobal call-in numbers \nJoin from a video system or application \nDial 24010446592@mfe.webex.com \nYou can also dial 62.109.219.4 and enter your meeting number. \nNeed help? Go to https://help.webex.com \n 
URL:https://mipe-test.softwareimc.app/eveniment/oportunitati-de-finantare-si-cooperare-pentru-regiunea-nord-est-in-perioada-2021-2027/
CATEGORIES:Financing Info Monday
ATTACH;FMTTYPE=image/png:https://mipe-test.softwareimc.app/wp-content/uploads/2021/09/Oportunitati-finantare-si-cooperare-FMI-20-septembrie.png
END:VEVENT
BEGIN:VEVENT
DTSTART;VALUE=DATE:20210920
DTEND;VALUE=DATE:20210921
DTSTAMP:20260422T173719
CREATED:20210920T082116Z
LAST-MODIFIED:20230509T085631Z
UID:11980-1632096000-1632182399@mipe-test.softwareimc.app
SUMMARY:Prezentare Oportunități de cooperare internațională pentru inovare (webinar-20 septembrie 2021)
DESCRIPTION:În cadrul webinar-ului Financing info Monday – Oportunități de finanțare și cooperare pentru Regiunea Nord-Est în perioada 2021-2027\, desfășurat luni\, 20 septembrie 2021\, doamna Gabriela Macoveiu\, director – Direcția Comunicare\, Inovare și Cooperare Externă în cadrul Agenției pentru Dezvoltare Regională Nord-Est\, a prezentat Oportunități de cooperare internațională pentru inovare\, fiind descrise câteva structuri asociative\, platforme tematice și rețele de inovare și cercetare create la nivelul Uniunii Europene. \nRegăsiți mai jos această prezentare. \nADRNE_20 sept 2021 Cooperare internatioanla pentru inovare
URL:https://mipe-test.softwareimc.app/eveniment/prezentare-oportunitati-de-cooperare-internationala-pentru-inovare-webinar-20-septembrie-2021/
CATEGORIES:Financing Info Monday
ATTACH;FMTTYPE=image/jpeg:https://mipe-test.softwareimc.app/wp-content/uploads/2021/09/Oportunitati-cooperare-ADR-N-E.jpg
END:VEVENT
BEGIN:VEVENT
DTSTART;TZID=Europe/Bucharest:20210930T000000
DTEND;TZID=Europe/Bucharest:20210930T000000
DTSTAMP:20260422T173719
CREATED:20210824T095052Z
LAST-MODIFIED:20230509T085850Z
UID:11974-1632960000-1632960000@mipe-test.softwareimc.app
SUMMARY:Programul Europa Creativă al UE – oportunități europene de finanțare (webinar)
DESCRIPTION:Ministerul Investițiilor și Proiectelor Europene\, în parteneriat cu Ministerul Culturii\, vor organiza luni\, 30 august 2021\, începând cu ora 11:00\, evenimentul Financing Info Monday\, în format videoconferință. \n  \nLa eveniment sunt invitați doamna Valentina Miu – coordonator subprograme MEDIA și domnul Sorin Enuș – coordonator subprograme Cultură\, din cadrul Ministerului Culturii – Unitatea de Management a Proiectului – Biroul Europa Creativă România\, care vor prezenta oportunitățile Programului Europa Creativă\, alături de beneficiari care vor oferi exemple de bune practici. \n  \nDetaliile de logare pentru participarea la videoconferință: \n  \nJoin from the meeting link \nhttps://mfe.webex.com/mfe/j.php?MTID=mf7b0d23c19f1880e8f00592a3c4e0e30 \n  \nJoin by meeting number \nMeeting number (access code): 174 008 2456 \nMeeting password: Minister2021 \n  \nTap to join from a mobile device (attendees only) \n+40-31-1305-284\,\,1740082456## Romania Toll \n  \nJoin by phone \n+40-31-1305-284 Romania Toll \nGlobal call-in numbers \n  \nJoin from a video system or application \nDial 1740082456@mfe.webex.com \n  \nYou can also dial 62.109.219.4 and enter your meeting number. \n 
URL:https://mipe-test.softwareimc.app/eveniment/programul-europa-creativa-al-ue-oportunitati-europene-de-finantare-webinar/
CATEGORIES:Financing Info Monday
ATTACH;FMTTYPE=image/jpeg:https://mipe-test.softwareimc.app/wp-content/uploads/2021/08/FIMcolab.Min_.Culturii-30aug.2021.jpg
END:VEVENT
END:VCALENDAR