BEGIN:VCALENDAR
VERSION:2.0
PRODID:-//Oportunități de finanțare UE - ECPv6.0.13.1//NONSGML v1.0//EN
CALSCALE:GREGORIAN
METHOD:PUBLISH
X-WR-CALNAME:Oportunități de finanțare UE
X-ORIGINAL-URL:https://mipe-test.softwareimc.app
X-WR-CALDESC:Events for Oportunități de finanțare UE
REFRESH-INTERVAL;VALUE=DURATION:PT1H
X-Robots-Tag:noindex
X-PUBLISHED-TTL:PT1H
BEGIN:VTIMEZONE
TZID:Europe/Bucharest
BEGIN:DAYLIGHT
TZOFFSETFROM:+0200
TZOFFSETTO:+0300
TZNAME:EEST
DTSTART:20220327T010000
END:DAYLIGHT
BEGIN:STANDARD
TZOFFSETFROM:+0300
TZOFFSETTO:+0200
TZNAME:EET
DTSTART:20221030T010000
END:STANDARD
END:VTIMEZONE
BEGIN:VEVENT
DTSTART;TZID=Europe/Bucharest:20220308T103000
DTEND;TZID=Europe/Bucharest:20220308T133000
DTSTAMP:20260420T132639
CREATED:20230412T091807Z
LAST-MODIFIED:20230606T073358Z
UID:9918-1646735400-1646746200@mipe-test.softwareimc.app
SUMMARY:Zi de informare online: CEF Energy
DESCRIPTION:Pentru perioada de finanțare 2021-2027\, a fost introdusă o nouă categorie de proiecte eligibile în partea energetică a programului CEF revizuit: proiecte transfrontaliere în domeniul energiei regenerabile. Noua fereastră CEF Energy completează alte oportunități de finanțare a energiei regenerabile din UE\, concentrându-se în mod special pe cooperarea transfrontalieră pentru a optimiza eforturile naționale pentru implementarea energiei regenerabile. \nPentru a fi eligibile pentru finanțare\, proiectele transfrontaliere ar trebui mai întâi să fie calificate și incluse în „lista proiectelor transfrontaliere în domeniul energiei regenerabile”\, cunoscută și sub denumirea de Lista CB RES. \nLa 1 martie 2022\, Comisia Europeană va lansa un prim apel pentru a obține statutul care va permite proiectelor RES transfrontaliere să fie în lista respectivă.\nÎn cadrul zilei de informare din 10 martie\, Agenția Executivă Europeană pentru Climă\, Infrastructură și Mediu (CINEA) va explica caracteristicile apelului\, contextul\, criteriile și câteva sfaturi și trucuri pentru a pregăti o aplicație bună. \nÎnregistrarea pentru participare se poate face până la 8 martie 2022 la: EUSurvey – Survey (europa.eu)
URL:https://mipe-test.softwareimc.app/eveniment/zi-de-informare-online-cef-energy/
CATEGORIES:Zile de informare
END:VEVENT
END:VCALENDAR