BEGIN:VCALENDAR
VERSION:2.0
PRODID:-//Oportunități de finanțare UE - ECPv6.0.13.1//NONSGML v1.0//EN
CALSCALE:GREGORIAN
METHOD:PUBLISH
X-ORIGINAL-URL:https://mipe-test.softwareimc.app
X-WR-CALDESC:Events for Oportunități de finanțare UE
REFRESH-INTERVAL;VALUE=DURATION:PT1H
X-Robots-Tag:noindex
X-PUBLISHED-TTL:PT1H
BEGIN:VTIMEZONE
TZID:Europe/Bucharest
BEGIN:DAYLIGHT
TZOFFSETFROM:+0200
TZOFFSETTO:+0300
TZNAME:EEST
DTSTART:20210328T010000
END:DAYLIGHT
BEGIN:STANDARD
TZOFFSETFROM:+0300
TZOFFSETTO:+0200
TZNAME:EET
DTSTART:20211031T010000
END:STANDARD
BEGIN:DAYLIGHT
TZOFFSETFROM:+0200
TZOFFSETTO:+0300
TZNAME:EEST
DTSTART:20220327T010000
END:DAYLIGHT
BEGIN:STANDARD
TZOFFSETFROM:+0300
TZOFFSETTO:+0200
TZNAME:EET
DTSTART:20221030T010000
END:STANDARD
END:VTIMEZONE
BEGIN:VEVENT
DTSTART;VALUE=DATE:20220203
DTEND;VALUE=DATE:20220204
DTSTAMP:20260420T223129
CREATED:20230412T091808Z
LAST-MODIFIED:20230512T084308Z
UID:9919-1643846400-1643932799@mipe-test.softwareimc.app
SUMMARY:Zi informativă Orizont Europa 2022 – Clusterul 5: Climă\, energie și mobilitate
DESCRIPTION:A doua ediție a zilelor informative ale Cluster 5 va prezenta 74 de subiecte deschise (inclusiv baterii\, energie regenerabilă\, transport rutier cu emisii zero\, aviație și multe altele) ale apelurilor Horizon Europe Cluster 5 în anul 2022\, cu accent pe:Promovarea unor apeluri tematice specifice Clusterului 5 și diseminarea informațiilor despre Programul de lucru pentru Clusterul 5 Orizont Europa 2022 către părțile interesate;\nOferirea de consiliere cu privire la modul de elaborare a unei propuneri bune și împărtășirea lecțiilor cheie învățate din primele evaluări Orizont Europa;\nOferirea de oportunități de creare de rețele și de potrivire potențialilor solicitanți pentru a sprijini construirea de consorții.\nNu este necesară înregistrarea.\nDetalii și agenda la:  Cluster 5 – Climate\, Energy & Mobility | European Commission (europa.eu)
URL:https://mipe-test.softwareimc.app/eveniment/zi-informativa-orizont-europa-2022-clusterul-5-clima-energie-si-mobilitate/
CATEGORIES:Zile de informare
END:VEVENT
BEGIN:VEVENT
DTSTART;TZID=Europe/Bucharest:20211014T100000
DTEND;TZID=Europe/Bucharest:20211014T100000
DTSTAMP:20260420T223129
CREATED:20230412T092128Z
LAST-MODIFIED:20230512T084454Z
UID:9947-1634205600-1634205600@mipe-test.softwareimc.app
SUMMARY:Info Days: Contribuția Mecanismului pentru Interconectarea Europei la transportul feroviar
DESCRIPTION:Evenimentul va fi organizat online de către Agenția Executivă Europeană pentru Climă\, Infrastructură și Mediu\, în data de 14 octombrie 2021\, începând cu ora 11:00 (ora României\, ora 10:00 Bruxelles-ului).\nÎn cadrul evenimentului se va prezenta modul în care Mecanismul pentru Interconectarea Europei/ Connecting Europe Facility (CEF) a jucat un rol cheie în mobilizarea resurselor necesare pentru finalizarea cu succes a proiectelor și modul în care aceste proiecte au contribuit la furnizarea de servicii mai bune pentru utilizatorii finali. De asemenea\, se va prezenta modul în care MIE – Transport a contribuit la spațiul feroviar unic european (SERA).\nDetalii privind evenimentul și înregistrarea sunt disponibile accesând: The Connecting Europe Facility support for railways (europa.eu) \n  \n 
URL:https://mipe-test.softwareimc.app/eveniment/info-days-contributia-mecanismului-pentru-interconectarea-europei-la-transportul-feroviar/
CATEGORIES:Zile de informare
END:VEVENT
BEGIN:VEVENT
DTSTART;TZID=Europe/Bucharest:20211014T143000
DTEND;TZID=Europe/Bucharest:20211014T170000
DTSTAMP:20260420T223129
CREATED:20230412T092043Z
LAST-MODIFIED:20230512T084454Z
UID:9938-1634221800-1634230800@mipe-test.softwareimc.app
SUMMARY:Virtual Info Day despre apelul CEF – Transport pentru infrastructura de combustibili alternativi (AFIF)
DESCRIPTION:Agenția Executivă Europeană pentru Climă\, Infrastructură și Mediu (CINEA – European Climate\, Infrastructure and Environment Executive Agency) organizează o zi virtuală de informare pe 14 octombrie 2021\, de la ora 14.30 la 17.00 (CEST)\, cu privire la apelul de propuneri de proiecte CEF (Connecting Europe Facility) – Transport privind infrastructura pentru combustibili alternativi (AFIF – Alternative Fuels Infrastructure Facility).Obiectivul sesiunii este de a prezenta contextul politic al apelului\, procesul de aplicare și evaluare și de a oferi participanților sfaturi și trucuri valoroase pentru a scrie o propunere de succes.\nWebstreaming\, înregistrare și prezentări\nParticipanții se pot înscrie\, până la 13 octombrie 2021\, la acest link: https://ec.europa.eu/eusurvey/runner/cef-transport-alternative-fuels-virtual-info-day .\nDupă eveniment\, înregistrarea\, prezentările și alte materiale vor fi disponibile pentru descărcare și pe pagina sus-menționată. Participanții vor avea posibilitatea de a-și pune întrebările folosind următorul link: https://app.sli.do/event/r2unbwyz/live/questions.\nPosibilele întrebări fără răspuns vor fi colectate și utilizate pentru documentul FAQ de pe Funding & Tender Portal (https://ec.europa.eu/info/funding-tenders/opportunities/portal/screen/home).\nContext – Despre apel\nObiectivul apelului de propuneri de proiecte AFIF este de a sprijini desfășurarea infrastructurii de alimentare cu combustibil alternativ\, contribuind la decarbonizarea transportului de-a lungul rețelei TEN-T.\nCu un buget total de 1\,5 miliarde EUR\, AFIF va finanța acțiuni prin combinarea subvențiilor CEF cu sprijinul financiar al instituțiilor financiare pentru a obține un impact mai mare al investiției. Acesta va fi implementat printr-un apel continuu pentru propuneri de proiecte lansat la 16 septembrie 2021\, cu cinci date limită pentru depunerea propunerilor până la sfârșitul anului 2023.\nMai multe informații despre apel regăsiți la:\nhttps://cinea.ec.europa.eu/calls-proposals/2021-cef-transport-call-proposals_en\n \nPentru știrea completă\, vizitați:\nhttps://cinea.ec.europa.eu/events/virtual-info-day-cef-transport-call-alternative-fuels-infrastructure-facility-afif_en
URL:https://mipe-test.softwareimc.app/eveniment/virtual-info-day-despre-apelul-cef-transport-pentru-infrastructura-de-combustibili-alternativi-afif/
CATEGORIES:Zile de informare
END:VEVENT
END:VCALENDAR