BEGIN:VCALENDAR
VERSION:2.0
PRODID:-//Oportunități de finanțare UE - ECPv6.0.13.1//NONSGML v1.0//EN
CALSCALE:GREGORIAN
METHOD:PUBLISH
X-ORIGINAL-URL:https://mipe-test.softwareimc.app
X-WR-CALDESC:Events for Oportunități de finanțare UE
REFRESH-INTERVAL;VALUE=DURATION:PT1H
X-Robots-Tag:noindex
X-PUBLISHED-TTL:PT1H
BEGIN:VTIMEZONE
TZID:Europe/Bucharest
BEGIN:DAYLIGHT
TZOFFSETFROM:+0200
TZOFFSETTO:+0300
TZNAME:EEST
DTSTART:20220327T010000
END:DAYLIGHT
BEGIN:STANDARD
TZOFFSETFROM:+0300
TZOFFSETTO:+0200
TZNAME:EET
DTSTART:20221030T010000
END:STANDARD
END:VTIMEZONE
BEGIN:VEVENT
DTSTART;VALUE=DATE:20220203
DTEND;VALUE=DATE:20220204
DTSTAMP:20260420T175933
CREATED:20230412T091808Z
LAST-MODIFIED:20230512T084308Z
UID:9919-1643846400-1643932799@mipe-test.softwareimc.app
SUMMARY:Zi informativă Orizont Europa 2022 – Clusterul 5: Climă\, energie și mobilitate
DESCRIPTION:A doua ediție a zilelor informative ale Cluster 5 va prezenta 74 de subiecte deschise (inclusiv baterii\, energie regenerabilă\, transport rutier cu emisii zero\, aviație și multe altele) ale apelurilor Horizon Europe Cluster 5 în anul 2022\, cu accent pe:Promovarea unor apeluri tematice specifice Clusterului 5 și diseminarea informațiilor despre Programul de lucru pentru Clusterul 5 Orizont Europa 2022 către părțile interesate;\nOferirea de consiliere cu privire la modul de elaborare a unei propuneri bune și împărtășirea lecțiilor cheie învățate din primele evaluări Orizont Europa;\nOferirea de oportunități de creare de rețele și de potrivire potențialilor solicitanți pentru a sprijini construirea de consorții.\nNu este necesară înregistrarea.\nDetalii și agenda la:  Cluster 5 – Climate\, Energy & Mobility | European Commission (europa.eu)
URL:https://mipe-test.softwareimc.app/eveniment/zi-informativa-orizont-europa-2022-clusterul-5-clima-energie-si-mobilitate/
CATEGORIES:Zile de informare
END:VEVENT
BEGIN:VEVENT
DTSTART;TZID=Europe/Bucharest:20220118T093000
DTEND;TZID=Europe/Bucharest:20220119T160000
DTSTAMP:20260420T175933
CREATED:20230412T091811Z
LAST-MODIFIED:20230512T084454Z
UID:9922-1642498200-1642608000@mipe-test.softwareimc.app
SUMMARY:Zile de informare privind Misiunile UE – 18 și 19 ianuarie 2022
DESCRIPTION:Misiunile UE reprezintă o noutate a programului de cercetare și inovare Orizont Europa pentru 2021-2027\, care urmărește să abordeze unele dintre cele mai mari provocări cu care se confruntă societatea noastră.Prin acest program de lucru\, Comisia lansează primele acțiuni de cercetare și inovare cu drepturi depline\, care vor lansa misiuni în etapa de implementare.\nAcțiunile includ sprijin direct pentru prioritățile-cheie globale ale UE\, cum ar fi Pactul ecologic european\, o Europă potrivită pentru era digitală\, planul de acțiune pentru combaterea cancerului și o economie care funcționează pentru oameni.\nComisia invită cercetătorii și inovatorii\, precum și cetățenii și toate părțile interesate să ia parte la cele cinci misiuni: \nAdaptarea la schimbările climatice: sprijinirea a cel puțin 150 de regiuni și comunități europene pentru a deveni rezistente la schimbările climatice până în 2030\nCancer: îmbunătățirea vieții a peste 3 milioane de oameni până în 2030 prin prevenire\, vindecare și pentru cei afectați de cancer\, inclusiv familiile lor\, să trăiască mai mult și mai bine\nRestaurați oceanul și apele până în 2030\n100 de orașe inteligente și neutre din punct de vedere climatic până în 2030\nUn acord de sol pentru Europa: 100 de laboratoare vii și faruri pentru a conduce tranziția către soluri sănătoase până în 2030 \nNu este necesară înregistrarea.\nPentru detalii și mai multe informații accesați:\nhttps://ec.europa.eu/info/research-and-innovation/events/upcoming-events/horizon-europe-info-days/eu-missions_en?fbclid=IwAR1eatSXVOn8iIBFL8wmxiwGxC6JMb7Vg2B6wAXLXZL_CD4W-VM3BbQiB4A#documents
URL:https://mipe-test.softwareimc.app/eveniment/zile-de-informare-privind-misiunile-ue-18-si-19-ianuarie-2022/
CATEGORIES:Zile de informare
END:VEVENT
END:VCALENDAR